BEGIN:VCALENDAR
VERSION:2.0
PRODID:-//Cleanbox Technology - ECPv6.0.1.1//NONSGML v1.0//EN
CALSCALE:GREGORIAN
METHOD:PUBLISH
X-WR-CALNAME:Cleanbox Technology
X-ORIGINAL-URL:https://cleanboxtech.com
X-WR-CALDESC:Events for Cleanbox Technology
REFRESH-INTERVAL;VALUE=DURATION:PT1H
X-Robots-Tag:noindex
X-PUBLISHED-TTL:PT1H
BEGIN:VTIMEZONE
TZID:UTC
BEGIN:STANDARD
TZOFFSETFROM:+0000
TZOFFSETTO:+0000
TZNAME:UTC
DTSTART:20210101T000000
END:STANDARD
END:VTIMEZONE
BEGIN:VEVENT
DTSTART;VALUE=DATE:20220317
DTEND;VALUE=DATE:20220319
DTSTAMP:20260425T153811
CREATED:20211208T190007Z
LAST-MODIFIED:20211208T190007Z
UID:5655-1647475200-1647647999@cleanboxtech.com
SUMMARY:Virtuality Paris
DESCRIPTION:Cleanbox Technology will be exhibiting at Virtuality Paris 2022! \nVirtuality Paris is a business trade-show dedicated to immersive technology\, virtual worlds and blockchain industries\nSince 2017\, Virtuality has been a major trade fair for the virtual reality and augmented reality industries. \nFrom 2022\, we are adding the virtual worlds and blockchain industries to our program. \nThe alliance of these three strategic themes will give you all the keys to support your business in the future of the metaverse industry.
URL:https://cleanboxtech.com/event/virtuality-paris/
ATTACH;FMTTYPE=image/jpeg:https://cleanboxtech.com/wp-content/uploads/2021/12/virtuality.jpg
END:VEVENT
BEGIN:VEVENT
DTSTART;VALUE=DATE:20220308
DTEND;VALUE=DATE:20220309
DTSTAMP:20260425T153811
CREATED:20220218T200351Z
LAST-MODIFIED:20220218T201753Z
UID:5896-1646697600-1646783999@cleanboxtech.com
SUMMARY:Middle East Retail XR Tech Summit
DESCRIPTION:Cleanbox CEO Amy Hedrick will be featured as a keynote speaker at the Middle East Retail XR Tech Summit on March 8th!  \nRegister here: https://xrtechsummit.com/
URL:https://cleanboxtech.com/event/middle-east-retail-xr-tech-summit/
ATTACH;FMTTYPE=image/jpeg:https://cleanboxtech.com/wp-content/uploads/2022/02/IAAPA-Graphic-111821.jpg
END:VEVENT
BEGIN:VEVENT
DTSTART;VALUE=DATE:20220303
DTEND;VALUE=DATE:20220305
DTSTAMP:20260425T153811
CREATED:20211208T185445Z
LAST-MODIFIED:20220131T100109Z
UID:5652-1646265600-1646438399@cleanboxtech.com
SUMMARY:Virtual Reality and Healthcare Global Symposium
DESCRIPTION:Cleanbox Technology will be hosting the closing reception downtown on the Nashville waterfront. \nHow is this conference different from the others? \nA strong focus on providing unique content\nand perspectives from across the healthcare spectrum. \nA strong focus on providing new emerging voices\nfrom across the ecosystem: care\, technology\, research\, policy. \nHosted by an association focused on providing opportunities\nto all\, and a not a select group of organizations.
URL:https://cleanboxtech.com/event/virtual-reality-and-healthcare-global-symposium/
ATTACH;FMTTYPE=image/jpeg:https://cleanboxtech.com/wp-content/uploads/2021/12/Nasvhille1.jpg
END:VEVENT
BEGIN:VEVENT
DTSTART;VALUE=DATE:20220123
DTEND;VALUE=DATE:20220126
DTSTAMP:20260425T153811
CREATED:20211202T114943Z
LAST-MODIFIED:20211208T184323Z
UID:5476-1642896000-1643155199@cleanboxtech.com
SUMMARY:SPIE AR | VR | MR
DESCRIPTION:Cleanbox CEO Amy Hedrick will be speaking during the SPIE AR | VR | MR.  \nResearchers and engineers\, investors and entrepreneurs\, customers and suppliers meet at SPIE AR | VR | MR to create the future of augmented\, virtual\, and mixed reality. This focus on hardware and enabled content\, combined with visionary industry perspectives from technology leaders working in the largest AR-VR-MR companies\, startups\, and suppliers\, make this event one to include on your calendar every year. Come and discover the hardware that will enable the metaverse. \nConferences and courses 23-25 January 2022 | Exhibition 24-25 January 2022\nThe Moscone Center West\, San Francisco
URL:https://cleanboxtech.com/event/spie/
ATTACH;FMTTYPE=image/jpeg:https://cleanboxtech.com/wp-content/uploads/2021/12/Untitled-1-4.45.41-PM.jpg
END:VEVENT
BEGIN:VEVENT
DTSTART;VALUE=DATE:20220105
DTEND;VALUE=DATE:20220109
DTSTAMP:20260425T153811
CREATED:20211202T115006Z
LAST-MODIFIED:20211208T183740Z
UID:5475-1641340800-1641686399@cleanboxtech.com
SUMMARY:CES 2022
DESCRIPTION:Cleanbox Technology will be exhibiting at CES from January 5th-8th. Come visit us at the Las Vegas Convention Center at booth #9339!
URL:https://cleanboxtech.com/event/ces-2022/
ATTACH;FMTTYPE=image/jpeg:https://cleanboxtech.com/wp-content/uploads/2021/12/CES-2022-1024x682-2.jpeg
END:VEVENT
BEGIN:VEVENT
DTSTART;VALUE=DATE:20211209
DTEND;VALUE=DATE:20211211
DTSTAMP:20260425T153811
CREATED:20211208T184601Z
LAST-MODIFIED:20211208T185047Z
UID:5648-1639008000-1639180799@cleanboxtech.com
SUMMARY:IVRHA Virtual Reality and Healthcare Europe Symposium
DESCRIPTION:Discover the latest advancement in VR for\nhealthcare training\, education\, research\, and clinical therapeutics. \nNetwork with leading clinical and pharma institutions\nfrom around the global. \nGain insights and best practices necessary\nto successfully implement VR into your clinical practice.
URL:https://cleanboxtech.com/event/ivrha/
ATTACH;FMTTYPE=image/jpeg:https://cleanboxtech.com/wp-content/uploads/2021/12/Untitled-1.jpg
END:VEVENT
END:VCALENDAR