BEGIN:VCALENDAR
VERSION:2.0
PRODID:-//Cleanbox Technology - ECPv6.0.1.1//NONSGML v1.0//EN
CALSCALE:GREGORIAN
METHOD:PUBLISH
X-WR-CALNAME:Cleanbox Technology
X-ORIGINAL-URL:https://cleanboxtech.com
X-WR-CALDESC:Events for Cleanbox Technology
REFRESH-INTERVAL;VALUE=DURATION:PT1H
X-Robots-Tag:noindex
X-PUBLISHED-TTL:PT1H
BEGIN:VTIMEZONE
TZID:UTC
BEGIN:STANDARD
TZOFFSETFROM:+0000
TZOFFSETTO:+0000
TZNAME:UTC
DTSTART:20220101T000000
END:STANDARD
END:VTIMEZONE
BEGIN:VEVENT
DTSTART;VALUE=DATE:20220426
DTEND;VALUE=DATE:20220428
DTSTAMP:20260425T212712
CREATED:20220218T194337Z
LAST-MODIFIED:20220218T195034Z
UID:5891-1650931200-1651103999@cleanboxtech.com
SUMMARY:InterFun Expo
DESCRIPTION:Cleanbox will be bringing our smart tech hygiene to the UK this April! We’ll be exhibiting at the InterFun Expo in Leeds from April 26th-27th.  \nWhether you run a dedicated FEC\, leisure venue or family attraction\, or incorporate a gaming\, play or adventure zone within your visitor attraction\, eatery\, mall or resort\, the InterFun Expo is a great opportunity to find out about the latest product innovations and learn about current trends and new tech to help you drive more visitors to your attraction.
URL:https://cleanboxtech.com/event/interfun-expo/
ATTACH;FMTTYPE=image/png:https://cleanboxtech.com/wp-content/uploads/2022/02/MicrosoftTeams-image-2.png
END:VEVENT
END:VCALENDAR