BEGIN:VCALENDAR
VERSION:2.0
PRODID:-//Cleanbox Technology - ECPv6.0.1.1//NONSGML v1.0//EN
CALSCALE:GREGORIAN
METHOD:PUBLISH
X-ORIGINAL-URL:https://cleanboxtech.com
X-WR-CALDESC:Events for Cleanbox Technology
REFRESH-INTERVAL;VALUE=DURATION:PT1H
X-Robots-Tag:noindex
X-PUBLISHED-TTL:PT1H
BEGIN:VTIMEZONE
TZID:UTC
BEGIN:STANDARD
TZOFFSETFROM:+0000
TZOFFSETTO:+0000
TZNAME:UTC
DTSTART:20220101T000000
END:STANDARD
END:VTIMEZONE
BEGIN:VEVENT
DTSTART;VALUE=DATE:20220317
DTEND;VALUE=DATE:20220319
DTSTAMP:20260425T105734
CREATED:20211208T190007Z
LAST-MODIFIED:20211208T190007Z
UID:5655-1647475200-1647647999@cleanboxtech.com
SUMMARY:Virtuality Paris
DESCRIPTION:Cleanbox Technology will be exhibiting at Virtuality Paris 2022! \nVirtuality Paris is a business trade-show dedicated to immersive technology\, virtual worlds and blockchain industries\nSince 2017\, Virtuality has been a major trade fair for the virtual reality and augmented reality industries. \nFrom 2022\, we are adding the virtual worlds and blockchain industries to our program. \nThe alliance of these three strategic themes will give you all the keys to support your business in the future of the metaverse industry.
URL:https://cleanboxtech.com/event/virtuality-paris/
ATTACH;FMTTYPE=image/jpeg:https://cleanboxtech.com/wp-content/uploads/2021/12/virtuality.jpg
END:VEVENT
END:VCALENDAR